BEGIN:VCALENDAR
VERSION:2.0
PRODID:IEEE vTools.Events//EN
CALSCALE:GREGORIAN
BEGIN:VTIMEZONE
TZID:America/Los_Angeles
BEGIN:DAYLIGHT
DTSTART:20260308T030000
TZOFFSETFROM:-0800
TZOFFSETTO:-0700
RRULE:FREQ=YEARLY;BYDAY=2SU;BYMONTH=3
TZNAME:PDT
END:DAYLIGHT
BEGIN:STANDARD
DTSTART:20261101T010000
TZOFFSETFROM:-0700
TZOFFSETTO:-0800
RRULE:FREQ=YEARLY;BYDAY=1SU;BYMONTH=11
TZNAME:PST
END:STANDARD
END:VTIMEZONE
BEGIN:VEVENT
DTSTAMP:20260420T200433Z
UID:22524465-CB48-482E-8999-7DA458681C86
DTSTART;TZID=America/Los_Angeles:20260422T153000
DTEND;TZID=America/Los_Angeles:20260422T163000
DESCRIPTION:Interested in aerospace? Come learn from an industry expert abo
 ut what a career in aerospace may look like. Tad Forsythe is a Lab Test En
 gineer Specialist at Safran and is excited to interact with WWU EECE stude
 nts and help connect them with opportunities in his field. Food will be pr
 ovided!\n\nSpeaker(s): Tad\n\nRoom: 213\, Bldg: Kaiser Borsari Hall\, 516 
 High St\, Bellingham\, Washington\, United States\, 98225
LOCATION:Room: 213\, Bldg: Kaiser Borsari Hall\, 516 High St\, Bellingham\,
  Washington\, United States\, 98225
ORGANIZER:ziliakjude@gmail.com
SEQUENCE:14
SUMMARY:Safran Speaker Event
URL;VALUE=URI:https://events.vtools.ieee.org/m/556248
X-ALT-DESC:Description: &lt;br /&gt;&lt;p&gt;Interested in aerospace? Come learn from a
 n industry expert about what a career in aerospace may look like. Tad Fors
 ythe is a Lab Test Engineer Specialist at &lt;span class=&quot;markx5we4ds6m&quot; data
 -markjs=&quot;true&quot; data-ogac=&quot;&quot; data-ogab=&quot;&quot; data-ogsc=&quot;&quot; data-ogsb=&quot;&quot;&gt;Safran&lt;
 /span&gt; and is excited to interact with WWU EECE students and help connect 
 them with opportunities in his field. &lt;strong&gt;Food will be provided&lt;/stron
 g&gt;!&lt;/p&gt;
END:VEVENT
END:VCALENDAR

