BEGIN:VCALENDAR
VERSION:2.0
PRODID:IEEE vTools.Events//EN
CALSCALE:GREGORIAN
BEGIN:VTIMEZONE
TZID:America/Sao_Paulo
BEGIN:DAYLIGHT
DTSTART:20380119T001407
TZOFFSETFROM:-0300
TZOFFSETTO:-0300
RRULE:FREQ=YEARLY;BYDAY=3TU;BYMONTH=1
TZNAME:-03
END:DAYLIGHT
BEGIN:STANDARD
DTSTART:20190216T230000
TZOFFSETFROM:-0200
TZOFFSETTO:-0300
RRULE:FREQ=YEARLY;BYDAY=3SA;BYMONTH=2
TZNAME:-03
END:STANDARD
END:VTIMEZONE
BEGIN:VEVENT
DTSTAMP:20260421T020933Z
UID:8A02C744-8246-4AA7-B848-F200EF7297C2
DTSTART;TZID=America/Sao_Paulo:20251014T214900
DTEND;TZID=America/Sao_Paulo:20251014T234900
DESCRIPTION:This report highlights the participation of the coordinator of 
 our IEEE Microwave Theory and Techniques Society Student Chapter in the In
 ternational Symposium on Internet of Things 2025.\n\nDuring the symposium\
 , the chapter coordinator presented two technical papers\, contributing to
  the dissemination of research in areas related to microwave engineering a
 nd Internet of Things (IoT) applications. The presentations promoted knowl
 edge exchange with researchers\, students\, and industry professionals att
 ending the event.\n\nIn addition to the technical contributions\, the coor
 dinator actively promoted the activities and mission of the IEEE MTT-S\, h
 ighlighting opportunities for student involvement\, professional developme
 nt\, and participation in global technical initiatives. This outreach effo
 rt increased the visibility of the MTT-S within the IoT research community
 .\n\nThe participation reinforced the role of our Student Chapter in inter
 national scientific events and contributed to strengthening the connection
  between academic research and IEEE MTT-S activities.\n\ncampinas\, Sao Pa
 ulo\, Brazil
LOCATION:campinas\, Sao Paulo\, Brazil
ORGANIZER:allan137@decom.fee.unicamp.br
SEQUENCE:27
SUMMARY:Participation in SIoT 2025: Technical Presentations and IEEE MTT-S 
 Outreach
URL;VALUE=URI:https://events.vtools.ieee.org/m/556302
X-ALT-DESC:Description: &lt;br /&gt;&lt;p data-start=&quot;222&quot; data-end=&quot;388&quot;&gt;This repor
 t highlights the participation of the coordinator of our &lt;span class=&quot;hove
 r:entity-accent entity-underline inline cursor-pointer align-baseline&quot;&gt;&lt;sp
 an class=&quot;whitespace-normal&quot;&gt;IEEE Microwave Theory and Techniques Society&lt;
 /span&gt;&lt;/span&gt; Student Chapter in the &lt;span class=&quot;hover:entity-accent enti
 ty-underline inline cursor-pointer align-baseline&quot;&gt;&lt;span class=&quot;whitespace
 -normal&quot;&gt;International Symposium on Internet of Things 2025&lt;/span&gt;&lt;/span&gt;.
 &lt;/p&gt;\n&lt;p data-start=&quot;390&quot; data-end=&quot;720&quot;&gt;During the symposium\, the chapte
 r coordinator presented two technical papers\, contributing to the dissemi
 nation of research in areas related to microwave engineering and Internet 
 of Things (IoT) applications. The presentations promoted knowledge exchang
 e with researchers\, students\, and industry professionals attending the e
 vent.&lt;/p&gt;\n&lt;p data-start=&quot;722&quot; data-end=&quot;1068&quot;&gt;In addition to the technica
 l contributions\, the coordinator actively promoted the activities and mis
 sion of the IEEE MTT-S\, highlighting opportunities for student involvemen
 t\, professional development\, and participation in global technical initi
 atives. This outreach effort increased the visibility of the MTT-S within 
 the IoT research community.&lt;/p&gt;\n&lt;p data-start=&quot;1070&quot; data-end=&quot;1266&quot;&gt;The 
 participation reinforced the role of our Student Chapter in international 
 scientific events and contributed to strengthening the connection between 
 academic research and IEEE MTT-S activities.&lt;/p&gt;\n&lt;p&gt;&amp;nbsp\;&lt;/p&gt;\n&lt;p&gt;&lt;img 
 src=&quot;https://events.vtools.ieee.org/vtools_ui/media/display/794d6722-4d8b-
 427c-bcfe-40f515402c04&quot; width=&quot;569&quot; height=&quot;319&quot;&gt;&lt;img src=&quot;https://events.
 vtools.ieee.org/vtools_ui/media/display/7e38e6f8-6e93-49dc-92b7-6428322e48
 81&quot; width=&quot;577&quot; height=&quot;259&quot;&gt;&lt;img src=&quot;https://events.vtools.ieee.org/vtoo
 ls_ui/media/display/f6b2d2bc-fc2a-4829-8f9a-115665fa2179&quot; width=&quot;577&quot; heig
 ht=&quot;259&quot;&gt;&lt;img src=&quot;https://events.vtools.ieee.org/vtools_ui/media/display/
 7a69d59e-6675-4045-b0f9-c0b6a8a204b3&quot; width=&quot;577&quot; height=&quot;259&quot;&gt;&lt;/p&gt;
END:VEVENT
END:VCALENDAR

