BEGIN:VCALENDAR
VERSION:2.0
PRODID:IEEE vTools.Events//EN
CALSCALE:GREGORIAN
BEGIN:VTIMEZONE
TZID:Europe/Bratislava
BEGIN:DAYLIGHT
DTSTART:20130331T030000
TZOFFSETFROM:+0100
TZOFFSETTO:+0200
RRULE:FREQ=YEARLY;BYDAY=-1SU;BYMONTH=3
TZNAME:CEST
END:DAYLIGHT
BEGIN:STANDARD
DTSTART:20121028T020000
TZOFFSETFROM:+0200
TZOFFSETTO:+0100
RRULE:FREQ=YEARLY;BYDAY=-1SU;BYMONTH=10
TZNAME:CET
END:STANDARD
END:VTIMEZONE
BEGIN:VEVENT
DTSTAMP:20121209T163741Z
UID:EF721223-E5B6-11E7-833E-0050568D7F66
DTSTART;TZID=Europe/Bratislava:20121207T130000
DTEND;TZID=Europe/Bratislava:20121207T160000
DESCRIPTION:Report about CS Section 2012 activities (chair Peter FarkaÅ¡)
  Student conferences/competitions: Å VOÄŒ 2012\, FEI STU v Bratislava\,
  Å VOÄŒ 2012\, FI Pan European University Bratislava\; IIT.SRC 2012\, F
 IIT STU Bratislava EEICT 2012\, VUT\, Brno Technical sponsorship of Confer
 ences: Radioelektronika 2012\, 22nd International Conference\, 17. - 18. 4
 . 2012\, Hotel Myslivna\, Brno Kohoutovice\, Czech Republic ELEKTRO 9th In
 ternational Conference\, 2012\, 21. 5.- 22. 5. RajeckÃ© Teplice Å½ilin
 a\, Slovakia PDeS 2012 11th IFAC/IEEE International Conference on Programm
 able Devices and Embedded Systems â€“ 23. 5. 25. 5.\, Å½ebÄ›tÃ
 ­nsky dvÅ¯r\, Brno\, Czech Republic ICCC 2012\, 13-th International Car
 pathian Control Conference\, 28. 5. -31. 5. \, 2012 PodbanskÃ©\, High Ta
 tras Slovakia DEIS 2012\, The Second International Conference on Digital E
 nterprise and Information Systems\, July 16-18\, 2012\,VSB-Technical Unive
 rsity of Ostrava\, Ostrava\, Czech Republic CSSim 2012\, International Con
 ference on Computer Modelling and Simulation\, Brno University of Technolo
 gy\, September 3 - 5\, 2012\, Brno\, Czech Republic ACIVS 2012 Advanced Co
 ncepts in Intelligent Vision Systems\, September 4 - 7\, 2012\, Brno\, Cze
 ch Republic ISEM 2012\, 20-th International Symposium on Electric Machiner
 y\, September 5 â€“ 7\, 2012\, Prague\, Czech Republic AE 2012\, Inte
 rnational Conference on Applied Electronics University of West Bohemia\, 5
  - 7 September 2012 Pilsen\, Czech Republic RiE 2012\,The International Ro
 botics in Education Conference\, 13-15 September\, 2012\, Prague\, Czech R
 epublic WMNC 2012\, 5th joined IFIP Wireless and Mobile Networking Confere
 nce\, Networking Conference\, 19-21-st September 2012\, Bratislava\, Slova
 kia Mechatronika 2012\, 15th International Conference on Mechatronics 5. 1
 2. -7. 12. 2012\, ÄŒVUT\, Praha Publications Zpravodaj css. sekce IEEE (
 2 per year )\, editor JiÅ™Ã­ Å ebesta no. 1. â€“ July 2012 no. 
 2. â€“ December 2012 (deadline 15.12.) SlaboproudÃ½ obzor / Electro
 nic Horizon\, Chief editor: Dalibor Biolek\, Executive editor: Miloslav Å
  plÃ­chal\, Cooperation with publications: RADIOENGINEERING\, Editor in 
 Chief: TomÃ¡Å¡ KratochvÃ­l\, IF = 0\,503 (2010) AT&amp;P Journal\, (Indu
 strial Automation and Measurment) Editor in Chief: Anton GÃ©rer\, AT&amp;P J
 ournal PLUS\, Acta Electrotechnica et Informatica (TUKE KoÅ¡ice)\, Edito
 r in Chief: DuÅ¡an Kocur ExCom meetings 12. 3. 2012 ÃšREL VUT Â Brno\
 , (SlaboproudÃ½ obzor change of production status) 28. 3. 2012 ÄŒVUT P
 rague (Technical sponsorship and Student activities support) 12. 10. 2012 
 FEKT VUT Brno (Technical sponsorship and activity revival supportive actio
 n plan Anual meeting preparation) Report on IEEE R8 committee meetings Leg
 al status project Objectives and information about communication with Meli
 ssa Grandal\, CCEP Compliance Analyst IEEE Legal and Compliance. Student b
 ranch VUT v Brne (Ing. David WolanskÃ½) Student branch TUKE v KoÅ¡icÃ
 ­ch (Ing. Jan TkÃ¡Ä) Afternoon with Red Hat 7. 3. 2012 IEEE GOLD (In
 g. Martin Slanina\, Ph.D.) Other activities of chapters will be presented 
 by their chairs Membership development report. Report about 2012 activitie
 s was approved. Treasurers report 2012 (Jan Å Ã­stek) Report from treas
 urer on finances expenses income and accounts was approved. Planed activit
 ies 2013 (Chair Peter FarkaÅ¡) Report about planed activities for 2013 w
 as approved. Elections results (section) 2013 term (David WolanskÃ½) pro
 f. Ing. Peter FarkaÅ¡\, DrSc. was elected as a chair for 2013 term Elect
 ed ExCom members for 2013: doc. Ing. TomÃ¡Å¡ FrÃ½za\, Ph.D. doc. Ing
 . Roman MarÅ¡Ã¡lek\, Ph.D. Ing. Milan PolÃ­vka\, Ph.D. Ing. Martin R
 akÃºs\, Ph.D. Ing. Martin Slanina\, Ph.D. doc. Ing. JiÅ™Ã­ Å ebest
 a\, Ph.D. Ing. Jan Å Ã­stek\, Ph.D. - doc. Ing. Roman MarÅ¡Ã¡lek\, 
 Ph.D. Not elected: Ing. ZdenÄ›k Letko\, Ph.D. Elections results (chapte
 rs) 2013 term (chapter chairs) Chapter chair informed about election resul
 ts in chapters and their best practice and points of concern in year 2012 
 Report about plagiarism case in CVUT Prague (ZbynÄ›k Å kvor ) Report a
 bout CS SB IEEE (David WolanskÃ½) Miscellaneous \, discussion Elected Ex
 Com for 2013 1-st meeting Program: 1. co-optation of: Ing. ZdenÄ›k Letk
 o\, Ph.D. into ExCom Approved by voting 2. Decision to continue in fubncti
 ons as in year 2012 Only changes: a) instead Prof Cernocky Ing. Letko will
  act. b) doc. Ing. Roman MarÅ¡Ã¡lek\, Ph.D.will be responsible for stu
 dent activities Approved by voting\n\nBrno\, Czech Republic\, Czech Republ
 ic
LOCATION:Brno\, Czech Republic\, Czech Republic
ORGANIZER:
SEQUENCE:0
SUMMARY:[Legacy Report] IEEE Czechoslovakia Section Annual meeting\, electi
 ons
URL;VALUE=URI:https://events.vtools.ieee.org/m/80620
X-ALT-DESC:Description: &lt;br /&gt;Report about CS Section 2012 activities 	(cha
 ir Peter FarkaÅ¡)\nStudent conferences/competitions: \nÅ VOÄŒ 2012\,
  FEI STU v Bratislava\,\nÅ VOÄŒ 2012\, FI Pan European University Brat
 islava\;\nIIT.SRC 2012\, FIIT STU Bratislava\nEEICT 2012\, VUT\, Brno\nTec
 hnical sponsorship of Conferences:\nRadioelektronika 2012\, 22nd Internati
 onal Conference\, 17. - 18. 4. 2012\, Hotel Myslivna\, Brno Kohoutovice\, 
 Czech Republic\nELEKTRO 9th International Conference\, 2012\,  21. 5.- 22.
  5. RajeckÃ© Teplice Å½ilina\, Slovakia\nPDeS 2012 11th IFAC/IEEE Inte
 rnational Conference on Programmable Devices and Embedded Systems â€“
  23. 5. 25. 5.\, Å½ebÄ›tÃ­nsky dvÅ¯r\, Brno\, Czech Republic\nICC
 C 2012\, 13-th International Carpathian Control Conference\,  28. 5. -31. 
 5. \, 2012 PodbanskÃ©\, High Tatras Slovakia \nDEIS 2012\, The Second In
 ternational Conference on Digital Enterprise and Information Systems\, Jul
 y 16-18\, 2012\,VSB-Technical University of Ostrava\, Ostrava\, Czech Repu
 blic\nCSSim 2012\, International Conference on Computer Modelling and Simu
 lation\, Brno University of Technology\, September 3 - 5\, 2012\, Brno\, C
 zech Republic\nACIVS 2012 Advanced Concepts in Intelligent Vision Systems\
 , September 4 - 7\, 2012\, Brno\, Czech Republic \nISEM 2012\, 20-th Inter
 national Symposium on Electric Machinery\, September 5 â€“ 7\, 2012\,
  Prague\, Czech\nRepublic\nAE 2012\, International Conference on Applied E
 lectronics University of West Bohemia\, 5 - 7 September 2012 Pilsen\, Czec
 h Republic\nRiE 2012\,The International Robotics in Education Conference\,
  13-15 September\, 2012\, Prague\, Czech Republic \nWMNC 2012\, 5th joined
  IFIP Wireless and Mobile Networking Conference\, Networking Conference\, 
 19-21-st September 2012\, Bratislava\, Slovakia\nMechatronika 2012\, 15th 
 International Conference on Mechatronics 5. 12. -7. 12. 2012\, ÄŒVUT\, P
 raha\nPublications\nZpravodaj css. sekce IEEE (2 per year )\, \neditor Ji
 Å™Ã­ Å ebesta\nno. 1. â€“ July 2012\nno. 2. â€“ December 
 2012  (deadline 15.12.)\n\nSlaboproudÃ½ obzor / Electronic Horizon\, \nC
 hief editor: Dalibor Biolek\, \nExecutive editor: Miloslav Å plÃ­chal\
 ,\nCooperation with publications:\nRADIOENGINEERING\, Editor in Chief: Tom
 Ã¡Å¡ KratochvÃ­l\, IF = 0\,503 (2010)\nAT&amp;P Journal\, (Industrial Au
 tomation and Measurment)\nEditor in Chief: Anton GÃ©rer\, \nAT&amp;P Journal
  PLUS\, \nActa Electrotechnica et Informatica (TUKE KoÅ¡ice)\, Editor in
  Chief: DuÅ¡an Kocur \nExCom meetings\n12. 3. 2012  ÃšREL VUT Â Brno
 \, (SlaboproudÃ½ obzor change of production status)\n28. 3. 2012 ÄŒVUT
  Prague (Technical sponsorship and Student activities support)\n12. 10. 20
 12 FEKT VUT Brno (Technical sponsorship and activity revival  supportive a
 ction plan Anual meeting preparation)\nReport on IEEE R8 committee meeting
 s\nLegal status  project\nObjectives and information about communication w
 ith Melissa Grandal\, CCEP Compliance Analyst\nIEEE Legal and Compliance.\
 nStudent branch VUT v Brne (Ing. David WolanskÃ½)\nStudent branch TUKE v
  KoÅ¡icÃ­ch (Ing. Jan TkÃ¡Ä)\nAfternoon with Red Hat 7. 3. 2012 \
 nIEEE GOLD (Ing. Martin Slanina\, Ph.D.)\nOther activities of chapters wil
 l be presented by their chairs\nMembership development report.\n\nReport a
 bout 2012 activities was approved.\n\nTreasurers report 2012 			(Jan Å 
 Ã­stek)\nReport from treasurer  on finances expenses income and accounts
  was approved.\nPlaned activities 2013 			(Chair Peter FarkaÅ¡)\nReport 
 about planed activities for 2013 was approved.\nElections results (section
 )  2013 term 	(David WolanskÃ½)\nprof. Ing. Peter FarkaÅ¡\, DrSc. was 
 elected as a chair for 2013 term\nElected ExCom members for 2013: \ndoc. I
 ng. TomÃ¡Å¡ FrÃ½za\, Ph.D. \ndoc. Ing. Roman MarÅ¡Ã¡lek\, Ph.D. 
 \nIng. Milan PolÃ­vka\, Ph.D.  \nIng. Martin RakÃºs\, Ph.D.  \nIng. Ma
 rtin Slanina\, Ph.D. \ndoc. Ing. JiÅ™Ã­ Å ebesta\, Ph.D. \nIng. Jan
  Å Ã­stek\, Ph.D. - \ndoc. Ing. Roman MarÅ¡Ã¡lek\, Ph.D.\nNot elec
 ted:\nIng. ZdenÄ›k Letko\, Ph.D.            \n\nElections results (chap
 ters) 2013 term 	(chapter chairs)\nChapter chair informed about election r
 esults in chapters and their best practice and points of concern in year 2
 012\nReport about plagiarism case in CVUT Prague 		(ZbynÄ›k Å kvor )\
 nReport about  CS SB IEEE 			(David WolanskÃ½)\nMiscellaneous \, discuss
 ion\nElected ExCom for 2013 1-st meeting\n\nProgram:\n1.\nco-optation of:\
 nIng. ZdenÄ›k Letko\, Ph.D. \ninto ExCom\nApproved by voting\n2.\nDecis
 ion to continue in fubnctions as in year 2012\nOnly changes:\na) instead P
 rof Cernocky Ing. Letko will act.\nb) doc. Ing. Roman MarÅ¡Ã¡lek\, Ph.
 D.will be responsible for student activities\nApproved by voting      \n
END:VEVENT
END:VCALENDAR

