BEGIN:VCALENDAR
VERSION:2.0
PRODID:IEEE vTools.Events//EN
CALSCALE:GREGORIAN
BEGIN:VTIMEZONE
TZID:Europe/Warsaw
BEGIN:DAYLIGHT
DTSTART:20120325T030000
TZOFFSETFROM:+0100
TZOFFSETTO:+0200
RRULE:FREQ=YEARLY;BYDAY=-1SU;BYMONTH=3
TZNAME:CEST
END:DAYLIGHT
BEGIN:STANDARD
DTSTART:20121028T020000
TZOFFSETFROM:+0200
TZOFFSETTO:+0100
RRULE:FREQ=YEARLY;BYDAY=-1SU;BYMONTH=10
TZNAME:CET
END:STANDARD
END:VTIMEZONE
BEGIN:VEVENT
DTSTAMP:20121223T120538Z
UID:EF767CF0-E5B6-11E7-833E-0050568D7F66
DTSTART;TZID=Europe/Warsaw:20121023T130500
DTEND;TZID=Europe/Warsaw:20121023T150500
DESCRIPTION:Internal Workshop of the Polish Chapter of the IEEE EMC Society
 .\n\nCo-sponsored by: Wroclaw Universit of Technology\n\nSpeaker(s): Fryde
 ryk Lewicki\, Dariuisz Wiecek\n\nWroclaw\, Dolnoslaskie\, Poland
LOCATION:Wroclaw\, Dolnoslaskie\, Poland
ORGANIZER:fryderyk.lewicki@orange.com
SEQUENCE:0
SUMMARY:[Legacy Report] IEEE EMC-S Workshop 2012
URL;VALUE=URI:https://events.vtools.ieee.org/m/81395
X-ALT-DESC:Description: &lt;br /&gt;Internal Workshop of the Polish Chapter of th
 e IEEE EMC Society.   
END:VEVENT
END:VCALENDAR

