BEGIN:VCALENDAR
VERSION:2.0
PRODID:IEEE vTools.Events//EN
CALSCALE:GREGORIAN
BEGIN:VTIMEZONE
TZID:Australia/ACT
BEGIN:DAYLIGHT
DTSTART:20131006T030000
TZOFFSETFROM:+1000
TZOFFSETTO:+1100
RRULE:FREQ=YEARLY;BYDAY=1SU;BYMONTH=10
TZNAME:AEDT
END:DAYLIGHT
BEGIN:STANDARD
DTSTART:20140406T020000
TZOFFSETFROM:+1100
TZOFFSETTO:+1000
RRULE:FREQ=YEARLY;BYDAY=1SU;BYMONTH=4
TZNAME:AEST
END:STANDARD
END:VTIMEZONE
BEGIN:VEVENT
DTSTAMP:20131120T182943Z
UID:EFFED8B9-E5B6-11E7-833E-0050568D7F66
DTSTART;TZID=Australia/ACT:20131101T180000
DTEND;TZID=Australia/ACT:20131101T220000
DESCRIPTION:The IEEE GOLD Affinity group invited the ACT members in general
  for a geeky night for grown-ups at Questacon\, were the members could exp
 lore the galleries after dark and get hands on with over 200 interactive e
 xhibits. Special guests from The Australian National University presented 
 two intriguing shows. Dr Guy Micklethwaite\, who examined the physics of t
 ime travel and Dr Lindy Orthia\, who looked at the science content in Doct
 or Who with &quot;The Doctors\, the Daleks and the dangerous to know: Doctor Wh
 o&#39;s mad scientists.&quot;\n\nCo-sponsored by: Questacon\n\nSpeaker(s): Dr Guy M
 icklethwaite\, Dr Lindy Orthia\n\nBarton\, Australian Capital Territory\, 
 Australia
LOCATION:Barton\, Australian Capital Territory\, Australia
ORGANIZER:elias.lopez.l@ieee.org
SEQUENCE:0
SUMMARY:[Legacy Report] Questacon Adults only Sci-night
URL;VALUE=URI:https://events.vtools.ieee.org/m/93569
X-ALT-DESC:Description: &lt;br /&gt;The IEEE GOLD Affinity group invited the ACT 
 members in general for a geeky night for grown-ups at Questacon\, were the
  members could explore the galleries after dark and get hands on with over
  200 interactive exhibits.\n\nSpecial guests from The Australian National 
 University presented two intriguing shows. Dr Guy Micklethwaite\, who exam
 ined the physics of time travel and Dr Lindy Orthia\, who looked at the sc
 ience content in Doctor Who with &quot;The Doctors\, the Daleks and the dangero
 us to know: Doctor Who&#39;s mad scientists.&quot;
END:VEVENT
END:VCALENDAR

